BEGIN:VCALENDAR
VERSION:2.0
PRODID:-//Pocono Area Corvette Club - ECPv6.15.20//NONSGML v1.0//EN
CALSCALE:GREGORIAN
METHOD:PUBLISH
X-ORIGINAL-URL:https://www.poconoareacorvetteclub.com
X-WR-CALDESC:Events for Pocono Area Corvette Club
REFRESH-INTERVAL;VALUE=DURATION:PT1H
X-Robots-Tag:noindex
X-PUBLISHED-TTL:PT1H
BEGIN:VTIMEZONE
TZID:America/New_York
BEGIN:DAYLIGHT
TZOFFSETFROM:-0500
TZOFFSETTO:-0400
TZNAME:EDT
DTSTART:20240310T070000
END:DAYLIGHT
BEGIN:STANDARD
TZOFFSETFROM:-0400
TZOFFSETTO:-0500
TZNAME:EST
DTSTART:20241103T060000
END:STANDARD
BEGIN:DAYLIGHT
TZOFFSETFROM:-0500
TZOFFSETTO:-0400
TZNAME:EDT
DTSTART:20250309T070000
END:DAYLIGHT
BEGIN:STANDARD
TZOFFSETFROM:-0400
TZOFFSETTO:-0500
TZNAME:EST
DTSTART:20251102T060000
END:STANDARD
BEGIN:DAYLIGHT
TZOFFSETFROM:-0500
TZOFFSETTO:-0400
TZNAME:EDT
DTSTART:20260308T070000
END:DAYLIGHT
BEGIN:STANDARD
TZOFFSETFROM:-0400
TZOFFSETTO:-0500
TZNAME:EST
DTSTART:20261101T060000
END:STANDARD
END:VTIMEZONE
BEGIN:VEVENT
DTSTART;TZID=America/New_York:20250518T090000
DTEND;TZID=America/New_York:20250518T150000
DTSTAMP:20260420T142532
CREATED:20231110T215103Z
LAST-MODIFIED:20250506T191706Z
UID:3046-1747558800-1747580400@www.poconoareacorvetteclub.com
SUMMARY:2025 Spring Bash Car Show
DESCRIPTION:Registration for this event: 9:00 – 11:00 AM \nNCCC 7 SANCTION FUN SHOW $30 DAY OF SHOW $25 PRE REG BY May 1stNON-NCCC PARTICIPANTS $15 \nGRAY CHEVROLET 1245 N. 9TH ST. STROUDSBURG\, PA 18360 \n  \nSpring Bash Car Show Flyer \n 
URL:https://www.poconoareacorvetteclub.com/event/2025-spring-bash-car-show/
LOCATION:GRAY CHEVROLET\, 1245 N. 9TH ST (ROUTE 611)\, STROUDSBURG\, PA\, 18360\, United States
CATEGORIES:Club Activities
END:VEVENT
END:VCALENDAR